BEGIN:VCALENDAR
VERSION:2.0
PRODID:-//Calvaryfl - ECPv6.15.20//NONSGML v1.0//EN
CALSCALE:GREGORIAN
METHOD:PUBLISH
X-ORIGINAL-URL:https://calvaryfl.com
X-WR-CALDESC:Events for Calvaryfl
REFRESH-INTERVAL;VALUE=DURATION:PT1H
X-Robots-Tag:noindex
X-PUBLISHED-TTL:PT1H
BEGIN:VTIMEZONE
TZID:America/Halifax
BEGIN:DAYLIGHT
TZOFFSETFROM:-0400
TZOFFSETTO:-0300
TZNAME:ADT
DTSTART:20250309T060000
END:DAYLIGHT
BEGIN:STANDARD
TZOFFSETFROM:-0300
TZOFFSETTO:-0400
TZNAME:AST
DTSTART:20251102T050000
END:STANDARD
BEGIN:DAYLIGHT
TZOFFSETFROM:-0400
TZOFFSETTO:-0300
TZNAME:ADT
DTSTART:20260308T060000
END:DAYLIGHT
BEGIN:STANDARD
TZOFFSETFROM:-0300
TZOFFSETTO:-0400
TZNAME:AST
DTSTART:20261101T050000
END:STANDARD
BEGIN:DAYLIGHT
TZOFFSETFROM:-0400
TZOFFSETTO:-0300
TZNAME:ADT
DTSTART:20270314T060000
END:DAYLIGHT
BEGIN:STANDARD
TZOFFSETFROM:-0300
TZOFFSETTO:-0400
TZNAME:AST
DTSTART:20271107T050000
END:STANDARD
END:VTIMEZONE
BEGIN:VEVENT
DTSTART;TZID=America/Halifax:20260426T100000
DTEND;TZID=America/Halifax:20260428T200000
DTSTAMP:20260424T105452
CREATED:20260312T202048Z
LAST-MODIFIED:20260414T140353Z
UID:10003768-1777197600-1777406400@calvaryfl.com
SUMMARY:Revival Camp Meeting
DESCRIPTION:We are expecting in this season for outpouring and revival fire! There are no limits on what God can do for you and in you during these 3 days!\n\nJoin us for 3 nights of encounter Calvary! Share this and come expecting!\n\nSchedule:Christa Smith will be ministering Sunday morning and Sunday night at 10am & 6pm (April 26th).Bishop S.Y. Younger will be ministering Monday night at 6:30pm (April 27th).Bishop Kevin Wallace will be ministering Tuesday night at 6:30pm (April 28th).\n\nBring your family\, invite a friend\, and join us for Revival Camp Meeting at Calvary as we seek God together for a fresh move of His Spirit!
URL:https://calvaryfl.com/events1/revival-camp-meeting/
LOCATION:Calvary Christian Center\, 1687 W Granada Blvd\, Ormond Beach\, FL\, 32174\, United States
CATEGORIES:All Campus,Ormond Beach
ATTACH;FMTTYPE=image/jpeg:https://calvaryfl.com/wp-content/uploads/2026/03/CampMeeting_graphic_16x9.jpg
ORGANIZER;CN="Calvaryfl":MAILTO:info@calvaryfl.com
END:VEVENT
BEGIN:VEVENT
DTSTART;TZID=America/Halifax:20260428T120000
DTEND;TZID=America/Halifax:20260428T130000
DTSTAMP:20260424T105452
CREATED:20260408T200906Z
LAST-MODIFIED:20260408T200906Z
UID:10003822-1777377600-1777381200@calvaryfl.com
SUMMARY:Watchman Prayer + Fasting
DESCRIPTION:Watchman Prayer is a dedicated time for our church family to come together in intentional\, Spirit-led prayer for our church\, our community\, our nation\, and the world. Rooted in the calling to “stand watch\,” these gatherings focus on interceding for what God is doing in people’s lives and aligning our hearts with His will. \n\n\n\n\n\n\n\n\nWhether you are new to prayer or have been walking in it for years\, Watchman Prayer is an opportunity to seek God together\, contend in faith\, and make a lasting impact through consistent\, powerful intercession.
URL:https://calvaryfl.com/events1/watchman-prayer-fasting/2026-04-28/
LOCATION:Calvary Christian Center l Chapel\, 1687 W Granada\, Florida\, Ormond Beach\, FL\, 32174\, United States
CATEGORIES:Ormond Beach
ATTACH;FMTTYPE=image/jpeg:https://calvaryfl.com/wp-content/uploads/2026/04/WatchmanPrayer_ormond_16x8.jpg
ORGANIZER;CN="Calvaryfl":MAILTO:info@calvaryfl.com
END:VEVENT
BEGIN:VEVENT
DTSTART;TZID=America/Halifax:20260430T100000
DTEND;TZID=America/Halifax:20260430T110000
DTSTAMP:20260424T105452
CREATED:20260422T210211Z
LAST-MODIFIED:20260422T210211Z
UID:10004114-1777543200-1777546800@calvaryfl.com
SUMMARY:Prophetic Prayer & Worship
DESCRIPTION:Come away from the noise and step into the presence of God. Every Thursday morning at 10 AM\, the Calvary Chapel becomes a sacred space for prophetic prayer and worship\, where heaven and earth meet\, and the voice of the Lord is heard. \nThis is a gathering for intercessors. A place to stand in the gap for our community\, our city\, our nation\, and the nations of the world. We come together to worship freely\, pray boldly\, and make room for the Holy Spirit to move on behalf of those who need a breakthrough. \nExpect worship that ushers in His presence. Expect prayer that shifts atmospheres. Expect God to hear\, and expect Him to move. \nIf you carry a burden to intercede\, if you feel the call to pray for your city and beyond\, this is your place. Bring your Bible\, bring your expectation\, and come ready to meet with God.
URL:https://calvaryfl.com/events1/prophetic-prayer-worship/2026-04-30/
LOCATION:Calvary Christian Center l Chapel\, 1687 W Granada\, Florida\, Ormond Beach\, FL\, 32174\, United States
CATEGORIES:Ormond Beach
ATTACH;FMTTYPE=image/jpeg:https://calvaryfl.com/wp-content/uploads/2026/04/IntercessoryPrayer_16x9.jpg
ORGANIZER;CN="Calvaryfl":MAILTO:info@calvaryfl.com
END:VEVENT
BEGIN:VEVENT
DTSTART;TZID=America/Halifax:20260507T120000
DTEND;TZID=America/Halifax:20260507T130000
DTSTAMP:20260424T105452
CREATED:20260423T205200Z
LAST-MODIFIED:20260423T205200Z
UID:10004375-1778155200-1778158800@calvaryfl.com
SUMMARY:National Day of Prayer
DESCRIPTION:Join Us for the National Day of Prayer \nThis May 7 at noon\, Calvary will gather in the Sanctuary to lift up our nation\, our leaders\, our communities\, and our families in united prayer. For over seven decades\, Americans across every background and walk of life have paused on this day to seek God together\, and we invite you to be part of that legacy. \nCome as you are. Whether you arrive with a heavy heart\, a grateful spirit\, or simply a desire to stand in agreement with others\, there is a place for you here. We’ll pray for revival in our country\, wisdom for those in authority\, protection for our military and first responders\, strength for our schools and churches\, and healing for the hurting. \n“If my people\, who are called by my name\, will humble themselves and pray and seek my face and turn from their wicked ways\, then I will hear from heaven\, and I will forgive their sin and will heal their land.” (2 Chronicles 7:14) \nWhen: Thursday\, May 7 at 12:00 PM Where: Calvary Sanctuary Who: Everyone is welcome. Bring a friend\, a coworker\, your family.
URL:https://calvaryfl.com/events1/national-day-of-prayer/
LOCATION:Calvary Christian Center | Main Sanctuary\, 1687 W Granada Blvd\, Ormond Beach\, FL\, 32174\, United States
CATEGORIES:All Campus
ATTACH;FMTTYPE=image/jpeg:https://calvaryfl.com/wp-content/uploads/2026/04/Calvary_NatlDayofPrayer_Graphic3-scaled.jpg
ORGANIZER;CN="Calvaryfl":MAILTO:info@calvaryfl.com
END:VEVENT
BEGIN:VEVENT
DTSTART;TZID=America/Halifax:20260510T100000
DTEND;TZID=America/Halifax:20260510T120000
DTSTAMP:20260424T105452
CREATED:20260422T204525Z
LAST-MODIFIED:20260422T204525Z
UID:10004112-1778407200-1778414400@calvaryfl.com
SUMMARY:My Sweet Momma: Mother's Day at Calvary
DESCRIPTION:This Mother’s Day\, Calvary is celebrating the sweetest gift a family can have: a mother’s love. Join us as we honor the women who shape us\, serve us\, and lead our families with grace\, strength\, and unwavering devotion. \nCome ready to worship and celebrate the extraordinary role mothers play in our lives and homes. From the everyday sacrifices to the quiet moments of wisdom and care\, a mother’s influence leaves a legacy that blesses generations. \nJoin our “My Mom Is Sweet Because…” campaign\, a special way to celebrate and shout out the sweet mothers in your life. We’ll also have a dedicated “In Loving Memory Of” space to honor the mothers who are no longer with us but whose love and legacy still shape our lives. \nBring Mom. Bring Grandma. Bring the mother figure who has poured into your life. You won’t want to miss it.
URL:https://calvaryfl.com/events1/my-sweet-momma-mothers-day-at-calvary/
LOCATION:Calvary Christian Center\, 1687 W Granada Blvd\, Ormond Beach\, FL\, 32174\, United States
CATEGORIES:Ormond Beach
ATTACH;FMTTYPE=image/jpeg:https://calvaryfl.com/wp-content/uploads/2026/04/MothersDay_Graphc_16x9.jpg
ORGANIZER;CN="Calvaryfl":MAILTO:info@calvaryfl.com
END:VEVENT
BEGIN:VEVENT
DTSTART;TZID=America/Halifax:20260524T100000
DTEND;TZID=America/Halifax:20260524T120000
DTSTAMP:20260424T105452
CREATED:20260422T210824Z
LAST-MODIFIED:20260422T210824Z
UID:10004374-1779616800-1779624000@calvaryfl.com
SUMMARY:Pentecost Sunday
DESCRIPTION:Something shifted in that upper room. A rushing wind\, tongues of fire\, and a gathered people were forever changed when the Holy Spirit fell. The Church was born\, and the same Spirit that filled the disciples is still moving\, still empowering\, and still pouring out today. \nThis Pentecost Sunday\, Calvary is celebrating the gift of the Holy Spirit and the power He brings to every believer. We’re gathering to remember what God did\, to welcome what He’s doing now\, and to contend for a fresh outpouring in our lives\, our homes\, and our church. \nCome expectant. Come hungry. Come ready to be filled afresh with the Spirit of the living God. Whether you’ve walked with the Holy Spirit for years or you’re just beginning to understand who He is\, there is more for you. More power\, more boldness\, more intimacy with the Father. \nInvite someone who needs a touch from heaven. The same Spirit who showed up in Acts 2 is showing up at Calvary on May 24. Don’t miss it.
URL:https://calvaryfl.com/events1/pentecost-sunday/
LOCATION:Calvary Christian Center\, 1687 W Granada Blvd\, Ormond Beach\, FL\, 32174\, United States
CATEGORIES:Ormond Beach
ATTACH;FMTTYPE=image/jpeg:https://calvaryfl.com/wp-content/uploads/2026/04/PentecostSunday_16x9.jpg
ORGANIZER;CN="Calvaryfl":MAILTO:info@calvaryfl.com
END:VEVENT
END:VCALENDAR