BEGIN:VCALENDAR
VERSION:2.0
PRODID:-//Calvaryfl - ECPv6.15.20//NONSGML v1.0//EN
CALSCALE:GREGORIAN
METHOD:PUBLISH
X-WR-CALNAME:Calvaryfl
X-ORIGINAL-URL:https://calvaryfl.com
X-WR-CALDESC:Events for Calvaryfl
REFRESH-INTERVAL;VALUE=DURATION:PT1H
X-Robots-Tag:noindex
X-PUBLISHED-TTL:PT1H
BEGIN:VTIMEZONE
TZID:America/Halifax
BEGIN:DAYLIGHT
TZOFFSETFROM:-0400
TZOFFSETTO:-0300
TZNAME:ADT
DTSTART:20240310T060000
END:DAYLIGHT
BEGIN:STANDARD
TZOFFSETFROM:-0300
TZOFFSETTO:-0400
TZNAME:AST
DTSTART:20241103T050000
END:STANDARD
BEGIN:DAYLIGHT
TZOFFSETFROM:-0400
TZOFFSETTO:-0300
TZNAME:ADT
DTSTART:20250309T060000
END:DAYLIGHT
BEGIN:STANDARD
TZOFFSETFROM:-0300
TZOFFSETTO:-0400
TZNAME:AST
DTSTART:20251102T050000
END:STANDARD
BEGIN:DAYLIGHT
TZOFFSETFROM:-0400
TZOFFSETTO:-0300
TZNAME:ADT
DTSTART:20260308T060000
END:DAYLIGHT
BEGIN:STANDARD
TZOFFSETFROM:-0300
TZOFFSETTO:-0400
TZNAME:AST
DTSTART:20261101T050000
END:STANDARD
BEGIN:DAYLIGHT
TZOFFSETFROM:-0400
TZOFFSETTO:-0300
TZNAME:ADT
DTSTART:20270314T060000
END:DAYLIGHT
BEGIN:STANDARD
TZOFFSETFROM:-0300
TZOFFSETTO:-0400
TZNAME:AST
DTSTART:20271107T050000
END:STANDARD
END:VTIMEZONE
BEGIN:VEVENT
DTSTART;TZID=America/Halifax:20260423T100000
DTEND;TZID=America/Halifax:20260423T110000
DTSTAMP:20260424T125140
CREATED:20260422T210211Z
LAST-MODIFIED:20260422T210211Z
UID:10004113-1776938400-1776942000@calvaryfl.com
SUMMARY:Prophetic Prayer & Worship
DESCRIPTION:Come away from the noise and step into the presence of God. Every Thursday morning at 10 AM\, the Calvary Chapel becomes a sacred space for prophetic prayer and worship\, where heaven and earth meet\, and the voice of the Lord is heard. \nThis is a gathering for intercessors. A place to stand in the gap for our community\, our city\, our nation\, and the nations of the world. We come together to worship freely\, pray boldly\, and make room for the Holy Spirit to move on behalf of those who need a breakthrough. \nExpect worship that ushers in His presence. Expect prayer that shifts atmospheres. Expect God to hear\, and expect Him to move. \nIf you carry a burden to intercede\, if you feel the call to pray for your city and beyond\, this is your place. Bring your Bible\, bring your expectation\, and come ready to meet with God.
URL:https://calvaryfl.com/events1/prophetic-prayer-worship/2026-04-23/
LOCATION:Calvary Christian Center l Chapel\, 1687 W Granada\, Florida\, Ormond Beach\, FL\, 32174\, United States
CATEGORIES:Ormond Beach
ATTACH;FMTTYPE=image/jpeg:https://calvaryfl.com/wp-content/uploads/2026/04/IntercessoryPrayer_16x9.jpg
ORGANIZER;CN="Calvaryfl":MAILTO:info@calvaryfl.com
END:VEVENT
BEGIN:VEVENT
DTSTART;TZID=America/Halifax:20260421T120000
DTEND;TZID=America/Halifax:20260421T130000
DTSTAMP:20260424T125140
CREATED:20260408T200906Z
LAST-MODIFIED:20260408T200906Z
UID:10003821-1776772800-1776776400@calvaryfl.com
SUMMARY:Watchman Prayer + Fasting
DESCRIPTION:Watchman Prayer is a dedicated time for our church family to come together in intentional\, Spirit-led prayer for our church\, our community\, our nation\, and the world. Rooted in the calling to “stand watch\,” these gatherings focus on interceding for what God is doing in people’s lives and aligning our hearts with His will. \n\n\n\n\n\n\n\n\nWhether you are new to prayer or have been walking in it for years\, Watchman Prayer is an opportunity to seek God together\, contend in faith\, and make a lasting impact through consistent\, powerful intercession.
URL:https://calvaryfl.com/events1/watchman-prayer-fasting/2026-04-21/
LOCATION:Calvary Christian Center l Chapel\, 1687 W Granada\, Florida\, Ormond Beach\, FL\, 32174\, United States
CATEGORIES:Ormond Beach
ATTACH;FMTTYPE=image/jpeg:https://calvaryfl.com/wp-content/uploads/2026/04/WatchmanPrayer_ormond_16x8.jpg
ORGANIZER;CN="Calvaryfl":MAILTO:info@calvaryfl.com
END:VEVENT
BEGIN:VEVENT
DTSTART;TZID=America/Halifax:20260412T100000
DTEND;TZID=America/Halifax:20260412T120000
DTSTAMP:20260424T125140
CREATED:20260405T152012Z
LAST-MODIFIED:20260407T210206Z
UID:10003799-1775988000-1775995200@calvaryfl.com
SUMMARY:Baptism Sunday
DESCRIPTION:Baptism Sunday is a powerful moment to go public with your faith and celebrate the new life Jesus has given you. It is more than a tradition. It is a declaration that your old life is gone and you have been made new in Him. If you have made the decision to follow Jesus\, this is your next step. We would be honored to celebrate with you and your family as you step into all God has for you. Sign up at calvaryfl.com/baptisms
URL:https://calvaryfl.com/events1/baptism-sunday-2/
LOCATION:Calvary Christian Center\, 1687 W Granada Blvd\, Ormond Beach\, FL\, 32174\, United States
CATEGORIES:Ormond Beach
ATTACH;FMTTYPE=image/jpeg:https://calvaryfl.com/wp-content/uploads/2026/04/April-12-Baptism_16x9.jpg
ORGANIZER;CN="Calvaryfl":MAILTO:info@calvaryfl.com
END:VEVENT
BEGIN:VEVENT
DTSTART;TZID=America/Halifax:20260405T111500
DTEND;TZID=America/Halifax:20260405T131500
DTSTAMP:20260424T125140
CREATED:20260308T044137Z
LAST-MODIFIED:20260318T160514Z
UID:10003791-1775387700-1775394900@calvaryfl.com
SUMMARY:Easter at Calvary
DESCRIPTION:This Easter\, we are telling the story of the empty tomb to the open table. \nNo matter where you have been\, what you have done\, or how deep your struggle may be\, there is a seat for you here. This Easter we are setting the table with one more chair\, believing that someone who thought they were forgotten will discover they belong. \nThis Easter is your invitation.\nThere is a place for you.\nThere is a place for your children.\nThere is a place for your family. \nPull up a chair and celebrate the risen Savior with us. \nWe have 2 services to choose from: 8:45 AM and 11:15 AM
URL:https://calvaryfl.com/events1/easter-at-calvary/2026-04-05/2/
LOCATION:Calvary Christian Center\, 1687 W Granada Blvd\, Ormond Beach\, FL\, 32174\, United States
CATEGORIES:Ormond Beach
ATTACH;FMTTYPE=image/jpeg:https://calvaryfl.com/wp-content/uploads/2026/03/EasterSunday_ORMOND-16x9-1.jpg
ORGANIZER;CN="Calvaryfl":MAILTO:info@calvaryfl.com
END:VEVENT
BEGIN:VEVENT
DTSTART;TZID=America/Halifax:20260403T183000
DTEND;TZID=America/Halifax:20260403T200000
DTSTAMP:20260424T125140
CREATED:20260307T024600Z
LAST-MODIFIED:20260307T024600Z
UID:10003498-1775241000-1775246400@calvaryfl.com
SUMMARY:Good Friday
DESCRIPTION:Join us for a powerful Good Friday service as we pause to remember the sacrifice of Jesus and the incredible love displayed on the cross. This sacred gathering is a time of worship\, reflection\, and gratitude as we honor the moment when the price for our redemption was fully paid\, and look ahead to the resurrection. \nEveryone is welcome. Bring your family and invite a friend.
URL:https://calvaryfl.com/events1/good-friday/
LOCATION:Calvary Christian Center | Main Sanctuary\, 1687 W Granada Blvd\, Ormond Beach\, FL\, 32174\, United States
CATEGORIES:Easter
ATTACH;FMTTYPE=image/jpeg:https://calvaryfl.com/wp-content/uploads/2026/03/GoodFriday_ORMOND-16x9-1.jpg
ORGANIZER;CN="Calvaryfl":MAILTO:info@calvaryfl.com
END:VEVENT
BEGIN:VEVENT
DTSTART;TZID=America/Halifax:20260329T100000
DTEND;TZID=America/Halifax:20260329T120000
DTSTAMP:20260424T125140
CREATED:20260307T134704Z
LAST-MODIFIED:20260307T135045Z
UID:10003501-1774778400-1774785600@calvaryfl.com
SUMMARY:Child Dedications
DESCRIPTION:Child Dedication is a special moment where parents publicly commit to raising their children in the ways of the Lord and covering their future in prayer. During this meaningful time\, families partner with the church to dedicate their child to God and declare that their home will honor Jesus. \nFollowing the biblical example found in Scripture\, parents bring their children before the Lord\, and our pastors pray a blessing over each child and family. As a church family\, we also commit to supporting and encouraging parents as they lead their children to know\, love\, and follow Christ. \nChild Dedication is not only a celebration of new life but also a declaration of faith for the future. We believe every child has a God given purpose\, and we are honored to stand with families as they begin this journey. \nWe invite you to register and celebrate this meaningful milestone with your Calvary family. \nTo Register: CLICK HERE
URL:https://calvaryfl.com/events1/child-dedications/
LOCATION:Calvary Christian Center\, 1687 W Granada Blvd\, Ormond Beach\, FL\, 32174\, United States
CATEGORIES:Ormond Beach
ATTACH;FMTTYPE=image/jpeg:https://calvaryfl.com/wp-content/uploads/2026/03/ChildDedications_16x9.jpeg
ORGANIZER;CN="Calvaryfl":MAILTO:info@calvaryfl.com
END:VEVENT
BEGIN:VEVENT
DTSTART;TZID=America/Halifax:20260322T180000
DTEND;TZID=America/Halifax:20260322T200000
DTSTAMP:20260424T125140
CREATED:20260307T023423Z
LAST-MODIFIED:20260307T023423Z
UID:10003497-1774202400-1774209600@calvaryfl.com
SUMMARY:Prayer Night
DESCRIPTION:Let’s come together to cover this Easter season in prayer. We are praying for lost souls\, that they will accept Jesus\, seek His presence and come into the House of the Lord. We will be interceding and pressing in\, to bring in a great harvest for the Kingdom of God\, that will come to know His voice\, seek His face and live a life full of the Holy Spirit.
URL:https://calvaryfl.com/events1/prayer-night/
LOCATION:Calvary Christian Center | Main Sanctuary\, 1687 W Granada Blvd\, Ormond Beach\, FL\, 32174\, United States
CATEGORIES:All Campus,Easter
ATTACH;FMTTYPE=image/jpeg:https://calvaryfl.com/wp-content/uploads/2026/03/PrayerNight_16x9.jpg
ORGANIZER;CN="Calvaryfl":MAILTO:info@calvaryfl.com
END:VEVENT
BEGIN:VEVENT
DTSTART;TZID=America/Halifax:20260301T130000
DTEND;TZID=America/Halifax:20260301T143000
DTSTAMP:20260424T125141
CREATED:20260220T143955Z
LAST-MODIFIED:20260225T122831Z
UID:10003486-1772370000-1772375400@calvaryfl.com
SUMMARY:Let's Talk About It\, Your Mind Matters
DESCRIPTION:Let’s Talk About It\, Your Mind Matters is a monthly symposium hosted by the TLC Ministry here at Calvary Christian Center. We’ve collaborated with counselors\, psychologist\, doctors\, and other clinicians to help move\, motivate\, and support individuals. We meet on the first Sunday of every month except for April\, which is Easter Sunday from 1 to 2:30 in the Chapel. Whether you’ve lost a loved one\, feel stuck\, and need help navigating a difficult season\, come join us and ‘Let’s Talk About It’!
URL:https://calvaryfl.com/events1/let-talk-about-it-your-mind-matters/
LOCATION:Calvary Christian Center l Chapel\, 1687 W Granada\, Florida\, Ormond Beach\, FL\, 32174\, United States
CATEGORIES:Ormond Beach
ATTACH;FMTTYPE=image/jpeg:https://calvaryfl.com/wp-content/uploads/2026/02/LetsTalkAboutIt_YourMindMatters_TLC_graphic_March2.jpg
ORGANIZER;CN="Calvaryfl":MAILTO:info@calvaryfl.com
END:VEVENT
BEGIN:VEVENT
DTSTART;VALUE=DATE:20260218
DTEND;VALUE=DATE:20260221
DTSTAMP:20260424T125141
CREATED:20250819T114849Z
LAST-MODIFIED:20260206T172711Z
UID:10003043-1771372800-1771631999@calvaryfl.com
SUMMARY:Collide Conference 2026
DESCRIPTION:Collide is a Pastors and Church Leaders conference designed to bring Pastors and their teams together to engage the places in ministry where “two worlds” Collide. It is the heart of the conference to confront and navigate these tensions with a spirit-filled and spirit-led perspective. \nOur goal at Collide is to inform and impart to every Pastor and Church leader in attendance the tools needed to lead effectively with Holy Spirit power and practical how-to’s. Join us for Collide\, you\, your team\, and your church will never be the same! \nRegister at calvaryfl.com/collide
URL:https://calvaryfl.com/events1/collide-conference-2026/
LOCATION:Calvary Christian Center | Main Sanctuary\, 1687 W Granada Blvd\, Ormond Beach\, FL\, 32174\, United States
CATEGORIES:All Campus
ATTACH;FMTTYPE=image/jpeg:https://calvaryfl.com/wp-content/uploads/2025/08/Collide2026_16x9_blue.jpg
ORGANIZER;CN="Calvaryfl":MAILTO:info@calvaryfl.com
END:VEVENT
BEGIN:VEVENT
DTSTART;TZID=America/Halifax:20251214T170000
DTEND;TZID=America/Halifax:20251214T200000
DTSTAMP:20260424T125141
CREATED:20251118T150636Z
LAST-MODIFIED:20251118T150636Z
UID:10003372-1765731600-1765742400@calvaryfl.com
SUMMARY:Candy Cane Lane
DESCRIPTION:Celebrate the season at Candy Cane Lane at Calvary! Kids get FREE stockings to decorate\, enjoy some Christmas music\, and SNOW in Florida! Plus\, face painting\, a petting zoo\, food trucks\, and a Christmas Trunk or Treat! Don’t miss this FREE family event full of holiday cheer!
URL:https://calvaryfl.com/events1/candy-cane-lane/
LOCATION:Calvary Christian Center | Parking Lot\, 1687 W. Granada Blvd.\, Ormond Beach\, FL\, 32174\, United States
CATEGORIES:All Campus
ATTACH;FMTTYPE=image/jpeg:https://calvaryfl.com/wp-content/uploads/2025/11/CandyCaneLane_16x9_ForPublic.jpg
ORGANIZER;CN="Calvaryfl":MAILTO:info@calvaryfl.com
END:VEVENT
BEGIN:VEVENT
DTSTART;VALUE=DATE:20251031
DTEND;VALUE=DATE:20251101
DTSTAMP:20260424T125141
CREATED:20251021T153041Z
LAST-MODIFIED:20251021T153059Z
UID:10003084-1761868800-1761955199@calvaryfl.com
SUMMARY:Keep the Light On
DESCRIPTION: “Glow” themed spots across our community to Keep the light On to share the gospel. We will be passing out candy and information about Jesus. \n  \nhttps://calvaryfl.ccbchurch.com/goto/forms/799/responses/new
URL:https://calvaryfl.com/events1/keep-the-light-on/
CATEGORIES:All Campus
ATTACH;FMTTYPE=image/jpeg:https://calvaryfl.com/wp-content/uploads/2025/10/KeepTheLightOn_16x9.jpg
ORGANIZER;CN="Calvaryfl":MAILTO:info@calvaryfl.com
END:VEVENT
END:VCALENDAR