BEGIN:VCALENDAR
VERSION:2.0
PRODID:-//Calvaryfl - ECPv6.15.20//NONSGML v1.0//EN
CALSCALE:GREGORIAN
METHOD:PUBLISH
X-WR-CALNAME:Calvaryfl
X-ORIGINAL-URL:https://calvaryfl.com
X-WR-CALDESC:Events for Calvaryfl
REFRESH-INTERVAL;VALUE=DURATION:PT1H
X-Robots-Tag:noindex
X-PUBLISHED-TTL:PT1H
BEGIN:VTIMEZONE
TZID:America/Halifax
BEGIN:DAYLIGHT
TZOFFSETFROM:-0400
TZOFFSETTO:-0300
TZNAME:ADT
DTSTART:20250309T060000
END:DAYLIGHT
BEGIN:STANDARD
TZOFFSETFROM:-0300
TZOFFSETTO:-0400
TZNAME:AST
DTSTART:20251102T050000
END:STANDARD
BEGIN:DAYLIGHT
TZOFFSETFROM:-0400
TZOFFSETTO:-0300
TZNAME:ADT
DTSTART:20260308T060000
END:DAYLIGHT
BEGIN:STANDARD
TZOFFSETFROM:-0300
TZOFFSETTO:-0400
TZNAME:AST
DTSTART:20261101T050000
END:STANDARD
BEGIN:DAYLIGHT
TZOFFSETFROM:-0400
TZOFFSETTO:-0300
TZNAME:ADT
DTSTART:20270314T060000
END:DAYLIGHT
BEGIN:STANDARD
TZOFFSETFROM:-0300
TZOFFSETTO:-0400
TZNAME:AST
DTSTART:20271107T050000
END:STANDARD
END:VTIMEZONE
BEGIN:VEVENT
DTSTART;TZID=America/Halifax:20260424T190000
DTEND;TZID=America/Halifax:20260424T203000
DTSTAMP:20260424T132524
CREATED:20260420T154940Z
LAST-MODIFIED:20260420T155446Z
UID:10004107-1777057200-1777062600@calvaryfl.com
SUMMARY:Calvary Palm Coast Prayer Night
DESCRIPTION:There is power when God’s people come together to pray. Join us at Calvary Palm Coast on Friday\, April 24 at 7:00 PM for a focused evening of worship\, prayer\, and seeking the Lord as a church family. \nWe’ll be lifting up our city\, our families\, our leaders\, and the personal needs you carry into that room. No matter where you are in your walk with Jesus\, this is a space to be honest with God\, experience His presence\, and trust Him for breakthrough. Come expecting Him to move. \nWhere: Calvary Palm Coast\, 4888 Palm Coast Pkwy NW\, Palm Coast When: Friday\, April 24 at 7:00 PM
URL:https://calvaryfl.com/events1/calvary-palm-coast-prayer-night/
LOCATION:CalvaryFL Palm Coast\, 4888 Palm Coast Pkwy NW\, Palm Coast\, Florida\, 32137
CATEGORIES:Palm Coast
ATTACH;FMTTYPE=image/jpeg:https://calvaryfl.com/wp-content/uploads/2026/04/PC_PrayerNight_April24_16x9.jpg
END:VEVENT
END:VCALENDAR