BEGIN:VCALENDAR
VERSION:2.0
PRODID:-//Calvaryfl - ECPv6.15.20//NONSGML v1.0//EN
CALSCALE:GREGORIAN
METHOD:PUBLISH
X-WR-CALNAME:Calvaryfl
X-ORIGINAL-URL:https://calvaryfl.com
X-WR-CALDESC:Events for Calvaryfl
REFRESH-INTERVAL;VALUE=DURATION:PT1H
X-Robots-Tag:noindex
X-PUBLISHED-TTL:PT1H
BEGIN:VTIMEZONE
TZID:America/Halifax
BEGIN:DAYLIGHT
TZOFFSETFROM:-0400
TZOFFSETTO:-0300
TZNAME:ADT
DTSTART:20250309T060000
END:DAYLIGHT
BEGIN:STANDARD
TZOFFSETFROM:-0300
TZOFFSETTO:-0400
TZNAME:AST
DTSTART:20251102T050000
END:STANDARD
BEGIN:DAYLIGHT
TZOFFSETFROM:-0400
TZOFFSETTO:-0300
TZNAME:ADT
DTSTART:20260308T060000
END:DAYLIGHT
BEGIN:STANDARD
TZOFFSETFROM:-0300
TZOFFSETTO:-0400
TZNAME:AST
DTSTART:20261101T050000
END:STANDARD
BEGIN:DAYLIGHT
TZOFFSETFROM:-0400
TZOFFSETTO:-0300
TZNAME:ADT
DTSTART:20270314T060000
END:DAYLIGHT
BEGIN:STANDARD
TZOFFSETFROM:-0300
TZOFFSETTO:-0400
TZNAME:AST
DTSTART:20271107T050000
END:STANDARD
END:VTIMEZONE
BEGIN:VEVENT
DTSTART;TZID=America/Halifax:20260426T100000
DTEND;TZID=America/Halifax:20260428T200000
DTSTAMP:20260424T124735
CREATED:20260312T202048Z
LAST-MODIFIED:20260414T140353Z
UID:10003768-1777197600-1777406400@calvaryfl.com
SUMMARY:Revival Camp Meeting
DESCRIPTION:We are expecting in this season for outpouring and revival fire! There are no limits on what God can do for you and in you during these 3 days!\n\nJoin us for 3 nights of encounter Calvary! Share this and come expecting!\n\nSchedule:Christa Smith will be ministering Sunday morning and Sunday night at 10am & 6pm (April 26th).Bishop S.Y. Younger will be ministering Monday night at 6:30pm (April 27th).Bishop Kevin Wallace will be ministering Tuesday night at 6:30pm (April 28th).\n\nBring your family\, invite a friend\, and join us for Revival Camp Meeting at Calvary as we seek God together for a fresh move of His Spirit!
URL:https://calvaryfl.com/events1/revival-camp-meeting/
LOCATION:Calvary Christian Center\, 1687 W Granada Blvd\, Ormond Beach\, FL\, 32174\, United States
CATEGORIES:All Campus,Ormond Beach
ATTACH;FMTTYPE=image/jpeg:https://calvaryfl.com/wp-content/uploads/2026/03/CampMeeting_graphic_16x9.jpg
ORGANIZER;CN="Calvaryfl":MAILTO:info@calvaryfl.com
END:VEVENT
BEGIN:VEVENT
DTSTART;TZID=America/Halifax:20260426T180000
DTEND;TZID=America/Halifax:20260428T200000
DTSTAMP:20260424T124735
CREATED:20260420T152009Z
LAST-MODIFIED:20260420T152009Z
UID:10004105-1777226400-1777406400@calvaryfl.com
SUMMARY:Calvary Kids Revival
DESCRIPTION:Hey Calvary Kids! Get ready for 3 nights of fun\, worship\, and a fresh move of God! We’re expecting an outpouring and revival fire\, and there are no limits on what God can do for you and in you during these 3 nights. \nAt Calvary Kids\, we Love God\, Love Others\, Love Yourself. Come ready to do all three as we laugh\, worship\, play\, and encounter Jesus together! \nSchedule: \n\nSunday\, April 26 at 6:00pm\nMonday\, April 27 at 6:30pm\nTuesday\, April 28 at 6:30pm\n\nDoors open 30 minutes before each service so parents have plenty of time to check their kids in. \nBring your family\, invite your friends\, and come expecting! It’s going to be 3 nights packed with revival\, fun\, and a whole lot of Jesus. You do not want to miss this!
URL:https://calvaryfl.com/events1/calvary-kids-revival/
LOCATION:Calvary Christian Center | Kids Center\, 1687 W. Granada Blvd.\, Ormond Beach\, FL\, 32174\, United States
CATEGORIES:All Campus,Calvary Kids
ATTACH;FMTTYPE=image/jpeg:https://calvaryfl.com/wp-content/uploads/2026/04/KidsCampMeeting_16x9.jpg
END:VEVENT
END:VCALENDAR