BEGIN:VCALENDAR
VERSION:2.0
PRODID:-//Calvaryfl - ECPv6.15.20//NONSGML v1.0//EN
CALSCALE:GREGORIAN
METHOD:PUBLISH
X-WR-CALNAME:Calvaryfl
X-ORIGINAL-URL:https://calvaryfl.com
X-WR-CALDESC:Events for Calvaryfl
REFRESH-INTERVAL;VALUE=DURATION:PT1H
X-Robots-Tag:noindex
X-PUBLISHED-TTL:PT1H
BEGIN:VTIMEZONE
TZID:America/Halifax
BEGIN:DAYLIGHT
TZOFFSETFROM:-0400
TZOFFSETTO:-0300
TZNAME:ADT
DTSTART:20250309T060000
END:DAYLIGHT
BEGIN:STANDARD
TZOFFSETFROM:-0300
TZOFFSETTO:-0400
TZNAME:AST
DTSTART:20251102T050000
END:STANDARD
BEGIN:DAYLIGHT
TZOFFSETFROM:-0400
TZOFFSETTO:-0300
TZNAME:ADT
DTSTART:20260308T060000
END:DAYLIGHT
BEGIN:STANDARD
TZOFFSETFROM:-0300
TZOFFSETTO:-0400
TZNAME:AST
DTSTART:20261101T050000
END:STANDARD
BEGIN:DAYLIGHT
TZOFFSETFROM:-0400
TZOFFSETTO:-0300
TZNAME:ADT
DTSTART:20270314T060000
END:DAYLIGHT
BEGIN:STANDARD
TZOFFSETFROM:-0300
TZOFFSETTO:-0400
TZNAME:AST
DTSTART:20271107T050000
END:STANDARD
END:VTIMEZONE
BEGIN:VEVENT
DTSTART;TZID=America/Halifax:20260507T100000
DTEND;TZID=America/Halifax:20260507T110000
DTSTAMP:20260424T143207
CREATED:20260422T210211Z
LAST-MODIFIED:20260422T210211Z
UID:10004115-1778148000-1778151600@calvaryfl.com
SUMMARY:Prophetic Prayer & Worship
DESCRIPTION:Come away from the noise and step into the presence of God. Every Thursday morning at 10 AM\, the Calvary Chapel becomes a sacred space for prophetic prayer and worship\, where heaven and earth meet\, and the voice of the Lord is heard. \nThis is a gathering for intercessors. A place to stand in the gap for our community\, our city\, our nation\, and the nations of the world. We come together to worship freely\, pray boldly\, and make room for the Holy Spirit to move on behalf of those who need a breakthrough. \nExpect worship that ushers in His presence. Expect prayer that shifts atmospheres. Expect God to hear\, and expect Him to move. \nIf you carry a burden to intercede\, if you feel the call to pray for your city and beyond\, this is your place. Bring your Bible\, bring your expectation\, and come ready to meet with God.
URL:https://calvaryfl.com/events1/prophetic-prayer-worship/2026-05-07/
LOCATION:Calvary Christian Center l Chapel\, 1687 W Granada\, Florida\, Ormond Beach\, FL\, 32174\, United States
CATEGORIES:Ormond Beach
ATTACH;FMTTYPE=image/jpeg:https://calvaryfl.com/wp-content/uploads/2026/04/IntercessoryPrayer_16x9.jpg
ORGANIZER;CN="Calvaryfl":MAILTO:info@calvaryfl.com
END:VEVENT
BEGIN:VEVENT
DTSTART;TZID=America/Halifax:20260507T120000
DTEND;TZID=America/Halifax:20260507T130000
DTSTAMP:20260424T143207
CREATED:20260423T205200Z
LAST-MODIFIED:20260423T205200Z
UID:10004375-1778155200-1778158800@calvaryfl.com
SUMMARY:National Day of Prayer
DESCRIPTION:Join Us for the National Day of Prayer \nThis May 7 at noon\, Calvary will gather in the Sanctuary to lift up our nation\, our leaders\, our communities\, and our families in united prayer. For over seven decades\, Americans across every background and walk of life have paused on this day to seek God together\, and we invite you to be part of that legacy. \nCome as you are. Whether you arrive with a heavy heart\, a grateful spirit\, or simply a desire to stand in agreement with others\, there is a place for you here. We’ll pray for revival in our country\, wisdom for those in authority\, protection for our military and first responders\, strength for our schools and churches\, and healing for the hurting. \n“If my people\, who are called by my name\, will humble themselves and pray and seek my face and turn from their wicked ways\, then I will hear from heaven\, and I will forgive their sin and will heal their land.” (2 Chronicles 7:14) \nWhen: Thursday\, May 7 at 12:00 PM Where: Calvary Sanctuary Who: Everyone is welcome. Bring a friend\, a coworker\, your family.
URL:https://calvaryfl.com/events1/national-day-of-prayer/
LOCATION:Calvary Christian Center | Main Sanctuary\, 1687 W Granada Blvd\, Ormond Beach\, FL\, 32174\, United States
CATEGORIES:All Campus
ATTACH;FMTTYPE=image/jpeg:https://calvaryfl.com/wp-content/uploads/2026/04/Calvary_NatlDayofPrayer_Graphic3-scaled.jpg
ORGANIZER;CN="Calvaryfl":MAILTO:info@calvaryfl.com
END:VEVENT
BEGIN:VEVENT
DTSTART;TZID=America/Halifax:20260514T100000
DTEND;TZID=America/Halifax:20260514T110000
DTSTAMP:20260424T143207
CREATED:20260422T210211Z
LAST-MODIFIED:20260422T210211Z
UID:10004116-1778752800-1778756400@calvaryfl.com
SUMMARY:Prophetic Prayer & Worship
DESCRIPTION:Come away from the noise and step into the presence of God. Every Thursday morning at 10 AM\, the Calvary Chapel becomes a sacred space for prophetic prayer and worship\, where heaven and earth meet\, and the voice of the Lord is heard. \nThis is a gathering for intercessors. A place to stand in the gap for our community\, our city\, our nation\, and the nations of the world. We come together to worship freely\, pray boldly\, and make room for the Holy Spirit to move on behalf of those who need a breakthrough. \nExpect worship that ushers in His presence. Expect prayer that shifts atmospheres. Expect God to hear\, and expect Him to move. \nIf you carry a burden to intercede\, if you feel the call to pray for your city and beyond\, this is your place. Bring your Bible\, bring your expectation\, and come ready to meet with God.
URL:https://calvaryfl.com/events1/prophetic-prayer-worship/2026-05-14/
LOCATION:Calvary Christian Center l Chapel\, 1687 W Granada\, Florida\, Ormond Beach\, FL\, 32174\, United States
CATEGORIES:Ormond Beach
ATTACH;FMTTYPE=image/jpeg:https://calvaryfl.com/wp-content/uploads/2026/04/IntercessoryPrayer_16x9.jpg
ORGANIZER;CN="Calvaryfl":MAILTO:info@calvaryfl.com
END:VEVENT
BEGIN:VEVENT
DTSTART;TZID=America/Halifax:20260521T100000
DTEND;TZID=America/Halifax:20260521T110000
DTSTAMP:20260424T143207
CREATED:20260422T210211Z
LAST-MODIFIED:20260422T210211Z
UID:10004117-1779357600-1779361200@calvaryfl.com
SUMMARY:Prophetic Prayer & Worship
DESCRIPTION:Come away from the noise and step into the presence of God. Every Thursday morning at 10 AM\, the Calvary Chapel becomes a sacred space for prophetic prayer and worship\, where heaven and earth meet\, and the voice of the Lord is heard. \nThis is a gathering for intercessors. A place to stand in the gap for our community\, our city\, our nation\, and the nations of the world. We come together to worship freely\, pray boldly\, and make room for the Holy Spirit to move on behalf of those who need a breakthrough. \nExpect worship that ushers in His presence. Expect prayer that shifts atmospheres. Expect God to hear\, and expect Him to move. \nIf you carry a burden to intercede\, if you feel the call to pray for your city and beyond\, this is your place. Bring your Bible\, bring your expectation\, and come ready to meet with God.
URL:https://calvaryfl.com/events1/prophetic-prayer-worship/2026-05-21/
LOCATION:Calvary Christian Center l Chapel\, 1687 W Granada\, Florida\, Ormond Beach\, FL\, 32174\, United States
CATEGORIES:Ormond Beach
ATTACH;FMTTYPE=image/jpeg:https://calvaryfl.com/wp-content/uploads/2026/04/IntercessoryPrayer_16x9.jpg
ORGANIZER;CN="Calvaryfl":MAILTO:info@calvaryfl.com
END:VEVENT
BEGIN:VEVENT
DTSTART;TZID=America/Halifax:20260528T100000
DTEND;TZID=America/Halifax:20260528T110000
DTSTAMP:20260424T143207
CREATED:20260422T210211Z
LAST-MODIFIED:20260422T210211Z
UID:10004118-1779962400-1779966000@calvaryfl.com
SUMMARY:Prophetic Prayer & Worship
DESCRIPTION:Come away from the noise and step into the presence of God. Every Thursday morning at 10 AM\, the Calvary Chapel becomes a sacred space for prophetic prayer and worship\, where heaven and earth meet\, and the voice of the Lord is heard. \nThis is a gathering for intercessors. A place to stand in the gap for our community\, our city\, our nation\, and the nations of the world. We come together to worship freely\, pray boldly\, and make room for the Holy Spirit to move on behalf of those who need a breakthrough. \nExpect worship that ushers in His presence. Expect prayer that shifts atmospheres. Expect God to hear\, and expect Him to move. \nIf you carry a burden to intercede\, if you feel the call to pray for your city and beyond\, this is your place. Bring your Bible\, bring your expectation\, and come ready to meet with God.
URL:https://calvaryfl.com/events1/prophetic-prayer-worship/2026-05-28/
LOCATION:Calvary Christian Center l Chapel\, 1687 W Granada\, Florida\, Ormond Beach\, FL\, 32174\, United States
CATEGORIES:Ormond Beach
ATTACH;FMTTYPE=image/jpeg:https://calvaryfl.com/wp-content/uploads/2026/04/IntercessoryPrayer_16x9.jpg
ORGANIZER;CN="Calvaryfl":MAILTO:info@calvaryfl.com
END:VEVENT
END:VCALENDAR