BEGIN:VCALENDAR
VERSION:2.0
PRODID:-//Calvaryfl - ECPv6.15.20//NONSGML v1.0//EN
CALSCALE:GREGORIAN
METHOD:PUBLISH
X-ORIGINAL-URL:https://calvaryfl.com
X-WR-CALDESC:Events for Calvaryfl
REFRESH-INTERVAL;VALUE=DURATION:PT1H
X-Robots-Tag:noindex
X-PUBLISHED-TTL:PT1H
BEGIN:VTIMEZONE
TZID:America/Halifax
BEGIN:DAYLIGHT
TZOFFSETFROM:-0400
TZOFFSETTO:-0300
TZNAME:ADT
DTSTART:20250309T060000
END:DAYLIGHT
BEGIN:STANDARD
TZOFFSETFROM:-0300
TZOFFSETTO:-0400
TZNAME:AST
DTSTART:20251102T050000
END:STANDARD
BEGIN:DAYLIGHT
TZOFFSETFROM:-0400
TZOFFSETTO:-0300
TZNAME:ADT
DTSTART:20260308T060000
END:DAYLIGHT
BEGIN:STANDARD
TZOFFSETFROM:-0300
TZOFFSETTO:-0400
TZNAME:AST
DTSTART:20261101T050000
END:STANDARD
BEGIN:DAYLIGHT
TZOFFSETFROM:-0400
TZOFFSETTO:-0300
TZNAME:ADT
DTSTART:20270314T060000
END:DAYLIGHT
BEGIN:STANDARD
TZOFFSETFROM:-0300
TZOFFSETTO:-0400
TZNAME:AST
DTSTART:20271107T050000
END:STANDARD
END:VTIMEZONE
BEGIN:VEVENT
DTSTART;TZID=America/Halifax:20260424T190000
DTEND;TZID=America/Halifax:20260424T203000
DTSTAMP:20260424T113249
CREATED:20260420T154940Z
LAST-MODIFIED:20260420T155446Z
UID:10004107-1777057200-1777062600@calvaryfl.com
SUMMARY:Calvary Palm Coast Prayer Night
DESCRIPTION:There is power when God’s people come together to pray. Join us at Calvary Palm Coast on Friday\, April 24 at 7:00 PM for a focused evening of worship\, prayer\, and seeking the Lord as a church family. \nWe’ll be lifting up our city\, our families\, our leaders\, and the personal needs you carry into that room. No matter where you are in your walk with Jesus\, this is a space to be honest with God\, experience His presence\, and trust Him for breakthrough. Come expecting Him to move. \nWhere: Calvary Palm Coast\, 4888 Palm Coast Pkwy NW\, Palm Coast When: Friday\, April 24 at 7:00 PM
URL:https://calvaryfl.com/events1/calvary-palm-coast-prayer-night/
LOCATION:CalvaryFL Palm Coast\, 4888 Palm Coast Pkwy NW\, Palm Coast\, Florida\, 32137
CATEGORIES:Palm Coast
ATTACH;FMTTYPE=image/jpeg:https://calvaryfl.com/wp-content/uploads/2026/04/PC_PrayerNight_April24_16x9.jpg
END:VEVENT
BEGIN:VEVENT
DTSTART;TZID=America/Halifax:20260426T100000
DTEND;TZID=America/Halifax:20260428T200000
DTSTAMP:20260424T113249
CREATED:20260312T202048Z
LAST-MODIFIED:20260414T140353Z
UID:10003768-1777197600-1777406400@calvaryfl.com
SUMMARY:Revival Camp Meeting
DESCRIPTION:We are expecting in this season for outpouring and revival fire! There are no limits on what God can do for you and in you during these 3 days!\n\nJoin us for 3 nights of encounter Calvary! Share this and come expecting!\n\nSchedule:Christa Smith will be ministering Sunday morning and Sunday night at 10am & 6pm (April 26th).Bishop S.Y. Younger will be ministering Monday night at 6:30pm (April 27th).Bishop Kevin Wallace will be ministering Tuesday night at 6:30pm (April 28th).\n\nBring your family\, invite a friend\, and join us for Revival Camp Meeting at Calvary as we seek God together for a fresh move of His Spirit!
URL:https://calvaryfl.com/events1/revival-camp-meeting/
LOCATION:Calvary Christian Center\, 1687 W Granada Blvd\, Ormond Beach\, FL\, 32174\, United States
CATEGORIES:All Campus,Ormond Beach
ATTACH;FMTTYPE=image/jpeg:https://calvaryfl.com/wp-content/uploads/2026/03/CampMeeting_graphic_16x9.jpg
ORGANIZER;CN="Calvaryfl":MAILTO:info@calvaryfl.com
END:VEVENT
BEGIN:VEVENT
DTSTART;TZID=America/Halifax:20260426T180000
DTEND;TZID=America/Halifax:20260428T200000
DTSTAMP:20260424T113249
CREATED:20260420T152009Z
LAST-MODIFIED:20260420T152009Z
UID:10004105-1777226400-1777406400@calvaryfl.com
SUMMARY:Calvary Kids Revival
DESCRIPTION:Hey Calvary Kids! Get ready for 3 nights of fun\, worship\, and a fresh move of God! We’re expecting an outpouring and revival fire\, and there are no limits on what God can do for you and in you during these 3 nights. \nAt Calvary Kids\, we Love God\, Love Others\, Love Yourself. Come ready to do all three as we laugh\, worship\, play\, and encounter Jesus together! \nSchedule: \n\nSunday\, April 26 at 6:00pm\nMonday\, April 27 at 6:30pm\nTuesday\, April 28 at 6:30pm\n\nDoors open 30 minutes before each service so parents have plenty of time to check their kids in. \nBring your family\, invite your friends\, and come expecting! It’s going to be 3 nights packed with revival\, fun\, and a whole lot of Jesus. You do not want to miss this!
URL:https://calvaryfl.com/events1/calvary-kids-revival/
LOCATION:Calvary Christian Center | Kids Center\, 1687 W. Granada Blvd.\, Ormond Beach\, FL\, 32174\, United States
CATEGORIES:All Campus,Calvary Kids
ATTACH;FMTTYPE=image/jpeg:https://calvaryfl.com/wp-content/uploads/2026/04/KidsCampMeeting_16x9.jpg
END:VEVENT
BEGIN:VEVENT
DTSTART;TZID=America/Halifax:20260428T103000
DTEND;TZID=America/Halifax:20260428T113000
DTSTAMP:20260424T113249
CREATED:20260408T191609Z
LAST-MODIFIED:20260408T192416Z
UID:10003814-1777372200-1777375800@calvaryfl.com
SUMMARY:Legacy Adults 6 Week Word Study
DESCRIPTION:We are excited to introduce a new opportunity to grow deeper in God’s Word together as the elders at the Table.\n\nBeginning Tuesday\, April 14\, we will launch Legacy Word Studies\, a Bible study designed especially for our Legacy Adults\, while warmly welcoming all ages to the table.\n\nJoin us on the 2nd and 4th Tuesdays of each month from 10:30 to 11:30 AM in the Youth Foyer. Each three-month series\, meeting twice monthly\, is designed to help us explore meaningful topics together in a focused and practical way.\n\nOur first 6-week study is titled:\nThe Keys to the Kingdom – The Authority of the Believer.\n\nJesus did not leave His Church powerless. He entrusted His followers with divine authority and the power of the Holy Spirit to live as overcomers in every season. In a time when many feel uncertain or spiritually challenged\, this study will help establish a strong foundation in understanding who we are in Christ and how to walk in that authority.\n\nThis interactive study will be led by Kim Snyder\, joined by his wife Connie. Combined\, they bring over 80 years of pastoral ministry experience within the Assemblies of God and have faithfully served in our Legacy Adult Ministry this past year\, including their meaningful involvement in The Circle Grandparenting Ministry. Their heart is to equip believers to live with confidence\, clarity\, and purpose in Christ.\n\nThroughout this study\, we will explore:\n• The scriptural foundations of spiritual authority\n• Our position in Christ as believers\n• How to walk in faith and spiritual authority in daily life\n• Understanding spiritual warfare and victory in Christ\n• Living as ambassadors of God’s Kingdom\n\nThis will be an interactive environment with teaching\, discussion\, and time for questions. Please bring your Bible and something for notes.\n\nFollowing this first session\, we will transition into a second study on Healing the Sick\, continuing to build on the foundation of faith and authority.\n\nWe believe this is more than a Bible study\, it is a time of strengthening\, equipping\, and preparing this generation to walk fully in the purpose God has given.\n\nClick here to register: REGISTER
URL:https://calvaryfl.com/events1/legacy-adults-6-week-word-study/2026-04-28/
LOCATION:Calvary Youth Center\, 1687 w granada blvd\, ormond beach\, 32164\, United States
CATEGORIES:Legacy Adults
ATTACH;FMTTYPE=image/jpeg:https://calvaryfl.com/wp-content/uploads/2026/04/LegacyAdults_WordStudy_Season1_16x9.jpg
END:VEVENT
BEGIN:VEVENT
DTSTART;TZID=America/Halifax:20260428T120000
DTEND;TZID=America/Halifax:20260428T130000
DTSTAMP:20260424T113249
CREATED:20260408T200906Z
LAST-MODIFIED:20260408T200906Z
UID:10003822-1777377600-1777381200@calvaryfl.com
SUMMARY:Watchman Prayer + Fasting
DESCRIPTION:Watchman Prayer is a dedicated time for our church family to come together in intentional\, Spirit-led prayer for our church\, our community\, our nation\, and the world. Rooted in the calling to “stand watch\,” these gatherings focus on interceding for what God is doing in people’s lives and aligning our hearts with His will. \n\n\n\n\n\n\n\n\nWhether you are new to prayer or have been walking in it for years\, Watchman Prayer is an opportunity to seek God together\, contend in faith\, and make a lasting impact through consistent\, powerful intercession.
URL:https://calvaryfl.com/events1/watchman-prayer-fasting/2026-04-28/
LOCATION:Calvary Christian Center l Chapel\, 1687 W Granada\, Florida\, Ormond Beach\, FL\, 32174\, United States
CATEGORIES:Ormond Beach
ATTACH;FMTTYPE=image/jpeg:https://calvaryfl.com/wp-content/uploads/2026/04/WatchmanPrayer_ormond_16x8.jpg
ORGANIZER;CN="Calvaryfl":MAILTO:info@calvaryfl.com
END:VEVENT
BEGIN:VEVENT
DTSTART;TZID=America/Halifax:20260428T183000
DTEND;TZID=America/Halifax:20260428T203000
DTSTAMP:20260424T113249
CREATED:20260413T150245Z
LAST-MODIFIED:20260413T150921Z
UID:10004094-1777401000-1777408200@calvaryfl.com
SUMMARY:Calvary Young Adults
DESCRIPTION:Calvary Young Adults is the place to be for connection\, growth\, and community! Join us every 2nd and 4th Sunday of the month at 6:30 PM for powerful worship\, a word for your life\, and free food! Come hang out\, bring a friend\, and be part of a community where you belong! \nFollow Us @calvaryflya
URL:https://calvaryfl.com/events1/calvary-young-adults-2/2026-04-28/
LOCATION:Calvary Christian Center | Main Sanctuary Foyer\, 1681 W Granada Blvd\, Ormond Beach\, FL\, 3217\, United States
CATEGORIES:Calvary Young Adults,Ormond Beach
ATTACH;FMTTYPE=image/jpeg:https://calvaryfl.com/wp-content/uploads/2024/10/YA_Generic2.jpg
END:VEVENT
BEGIN:VEVENT
DTSTART;TZID=America/Halifax:20260429T060000
DTEND;TZID=America/Halifax:20260429T070000
DTSTAMP:20260424T113249
CREATED:20260420T155404Z
LAST-MODIFIED:20260420T155404Z
UID:10004109-1777442400-1777446000@calvaryfl.com
SUMMARY:Calvary Palm Coast Men's 6 AM Bible Study
DESCRIPTION:Men\, the day is won before the sun comes up. Join the men of Calvary Palm Coast every Wednesday at 6:00 AM for an early-morning Bible study designed to sharpen you in the Word\, strengthen your walk with Christ\, and build real brotherhood with other men pursuing Jesus. \nWe meet every Wednesday through May 6. Bring your Bible\, bring your coffee\, and bring a friend. Whether you’ve been walking with the Lord for decades or you’re just getting started\, there’s a seat at the table for you. \nWhere: Calvary Palm Coast\, 4888 Palm Coast Pkwy NW\, Palm Coast When: Wednesdays at 6:00 AM (through May 6)
URL:https://calvaryfl.com/events1/calvary-palm-coast-mens-6-am-bible-study/2026-04-29/
LOCATION:CalvaryFL Palm Coast\, 4888 Palm Coast Pkwy NW\, Palm Coast\, Florida\, 32137
CATEGORIES:Palm Coast
ATTACH;FMTTYPE=image/jpeg:https://calvaryfl.com/wp-content/uploads/2026/04/WebsiteGraphics2.jpg
END:VEVENT
BEGIN:VEVENT
DTSTART;TZID=America/Halifax:20260429T183000
DTEND;TZID=America/Halifax:20260429T200000
DTSTAMP:20260424T113249
CREATED:20260308T004003Z
LAST-MODIFIED:20260413T151500Z
UID:10003509-1777487400-1777492800@calvaryfl.com
SUMMARY:Calvary Youth
DESCRIPTION:Calvary Youth is the middle school and high school ministry of Calvary. We exist to connect with God\, connect with others\, cultivate purpose\, and change the world. Through weekly gatherings and impactful events\, students discover community\, grow in their faith\, and are empowered to live out their God-given purpose.
URL:https://calvaryfl.com/events1/youth-service/2026-04-29/
LOCATION:Calvary Youth Center\, 1687 w granada blvd\, ormond beach\, 32164\, United States
CATEGORIES:Calvary Youth
ATTACH;FMTTYPE=image/jpeg:https://calvaryfl.com/wp-content/uploads/2026/03/YOUTH_Generic2.jpeg
END:VEVENT
BEGIN:VEVENT
DTSTART;TZID=America/Halifax:20260430T100000
DTEND;TZID=America/Halifax:20260430T110000
DTSTAMP:20260424T113249
CREATED:20260422T210211Z
LAST-MODIFIED:20260422T210211Z
UID:10004114-1777543200-1777546800@calvaryfl.com
SUMMARY:Prophetic Prayer & Worship
DESCRIPTION:Come away from the noise and step into the presence of God. Every Thursday morning at 10 AM\, the Calvary Chapel becomes a sacred space for prophetic prayer and worship\, where heaven and earth meet\, and the voice of the Lord is heard. \nThis is a gathering for intercessors. A place to stand in the gap for our community\, our city\, our nation\, and the nations of the world. We come together to worship freely\, pray boldly\, and make room for the Holy Spirit to move on behalf of those who need a breakthrough. \nExpect worship that ushers in His presence. Expect prayer that shifts atmospheres. Expect God to hear\, and expect Him to move. \nIf you carry a burden to intercede\, if you feel the call to pray for your city and beyond\, this is your place. Bring your Bible\, bring your expectation\, and come ready to meet with God.
URL:https://calvaryfl.com/events1/prophetic-prayer-worship/2026-04-30/
LOCATION:Calvary Christian Center l Chapel\, 1687 W Granada\, Florida\, Ormond Beach\, FL\, 32174\, United States
CATEGORIES:Ormond Beach
ATTACH;FMTTYPE=image/jpeg:https://calvaryfl.com/wp-content/uploads/2026/04/IntercessoryPrayer_16x9.jpg
ORGANIZER;CN="Calvaryfl":MAILTO:info@calvaryfl.com
END:VEVENT
BEGIN:VEVENT
DTSTART;TZID=America/Halifax:20260503T130000
DTEND;TZID=America/Halifax:20260503T143000
DTSTAMP:20260424T113249
CREATED:20260307T022242Z
LAST-MODIFIED:20260307T022456Z
UID:10003496-1777813200-1777818600@calvaryfl.com
SUMMARY:Let's Talk About It\, Your Mind Matters
DESCRIPTION:Let’s Talk About It\, Your Mind Matters is a monthly symposium hosted by the TLC Ministry here at Calvary Christian Center. We’ve collaborated with counselors\, psychologist\, doctors\, and other clinicians to help move\, motivate\, and support individuals. We meet on the first Sunday of every month except for April\, which is Easter Sunday from 1 to 2:30 in the Chapel. Whether you’ve lost a loved one\, feel stuck\, and need help navigating a difficult season\, come join us and ‘Let’s Talk About It’!
URL:https://calvaryfl.com/events1/17115/
LOCATION:Calvary Christian Center l Chapel\, 1687 W Granada\, Florida\, Ormond Beach\, FL\, 32174\, United States
CATEGORIES:Ormond Beach
ATTACH;FMTTYPE=image/jpeg:https://calvaryfl.com/wp-content/uploads/2026/03/LetsTalkAboutIt_YourMindMatters_TLC_graphic2.jpg
END:VEVENT
BEGIN:VEVENT
DTSTART;TZID=America/Halifax:20260506T110000
DTEND;TZID=America/Halifax:20260506T133000
DTSTAMP:20260424T113249
CREATED:20260420T153306Z
LAST-MODIFIED:20260420T154239Z
UID:10004106-1778065200-1778074200@calvaryfl.com
SUMMARY:Multi-Site Free Groceries & Lunch
DESCRIPTION:Multi-Site Free Groceries & Lunch \nJoin the Daytona Dream Center on Wednesday\, May 6 as we bring free groceries and a hot lunch directly to our neighbors at two Holly Hill locations: \nHolly Point Apartments at 11:00 AM 1000 15th St\, Holly Hill \nCharleston Place Apartments at 12:30 PM 1971 Charleston House Way\, Holly Hill \nAt Calvary\, we believe the love of Jesus is best shown in practical\, tangible ways. That’s why the Daytona Dream Center exists: to step beyond the walls of the church and meet real needs in our community. Whether it’s helping stretch a family’s grocery budget\, sharing a warm meal\, or simply showing up with a smile and a listening ear\, every visit is an opportunity to let our neighbors know they are seen\, valued\, and deeply loved. \nNo registration is required. Everyone is welcome. Groceries will be distributed while supplies last at each site\, so we encourage you to come early. \nIf you’d like to be part of the team serving\, praying\, and loving on our neighbors that day\, we’d love to have you. Volunteers of all ages are welcome. This is a great opportunity for families\, small groups\, and anyone looking to put their faith into action. \nWhen: Wednesday\, May 6 \nWhere: Holly Point Apartments\, 1000 15th St\, Holly Hill (11:00 AM) Charleston Place Apartments\, 1971 Charleston House Way\, Holly Hill (12:30 PM) \nCost: Free (while supplies last) \nCome hungry\, come expectant\, and come ready to experience what God can do when His people show up.
URL:https://calvaryfl.com/events1/free-groceries-lunch/
LOCATION:Holly Point Apartments\, 1000 15th St\, Holly Hill\, FL\, 32117\, United States
CATEGORIES:Daytona Dream Center
ATTACH;FMTTYPE=image/jpeg:https://calvaryfl.com/wp-content/uploads/2026/04/FreeGroceriesMultiSite_16x9-scaled.jpg
ORGANIZER;CN="Daytona Dream Center":MAILTO:outreach@daytonadreamcenter.com
END:VEVENT
BEGIN:VEVENT
DTSTART;TZID=America/Halifax:20260507T120000
DTEND;TZID=America/Halifax:20260507T130000
DTSTAMP:20260424T113249
CREATED:20260423T205200Z
LAST-MODIFIED:20260423T205200Z
UID:10004375-1778155200-1778158800@calvaryfl.com
SUMMARY:National Day of Prayer
DESCRIPTION:Join Us for the National Day of Prayer \nThis May 7 at noon\, Calvary will gather in the Sanctuary to lift up our nation\, our leaders\, our communities\, and our families in united prayer. For over seven decades\, Americans across every background and walk of life have paused on this day to seek God together\, and we invite you to be part of that legacy. \nCome as you are. Whether you arrive with a heavy heart\, a grateful spirit\, or simply a desire to stand in agreement with others\, there is a place for you here. We’ll pray for revival in our country\, wisdom for those in authority\, protection for our military and first responders\, strength for our schools and churches\, and healing for the hurting. \n“If my people\, who are called by my name\, will humble themselves and pray and seek my face and turn from their wicked ways\, then I will hear from heaven\, and I will forgive their sin and will heal their land.” (2 Chronicles 7:14) \nWhen: Thursday\, May 7 at 12:00 PM Where: Calvary Sanctuary Who: Everyone is welcome. Bring a friend\, a coworker\, your family.
URL:https://calvaryfl.com/events1/national-day-of-prayer/
LOCATION:Calvary Christian Center | Main Sanctuary\, 1687 W Granada Blvd\, Ormond Beach\, FL\, 32174\, United States
CATEGORIES:All Campus
ATTACH;FMTTYPE=image/jpeg:https://calvaryfl.com/wp-content/uploads/2026/04/Calvary_NatlDayofPrayer_Graphic3-scaled.jpg
ORGANIZER;CN="Calvaryfl":MAILTO:info@calvaryfl.com
END:VEVENT
BEGIN:VEVENT
DTSTART;TZID=America/Halifax:20260510T100000
DTEND;TZID=America/Halifax:20260510T120000
DTSTAMP:20260424T113249
CREATED:20260422T204525Z
LAST-MODIFIED:20260422T204525Z
UID:10004112-1778407200-1778414400@calvaryfl.com
SUMMARY:My Sweet Momma: Mother's Day at Calvary
DESCRIPTION:This Mother’s Day\, Calvary is celebrating the sweetest gift a family can have: a mother’s love. Join us as we honor the women who shape us\, serve us\, and lead our families with grace\, strength\, and unwavering devotion. \nCome ready to worship and celebrate the extraordinary role mothers play in our lives and homes. From the everyday sacrifices to the quiet moments of wisdom and care\, a mother’s influence leaves a legacy that blesses generations. \nJoin our “My Mom Is Sweet Because…” campaign\, a special way to celebrate and shout out the sweet mothers in your life. We’ll also have a dedicated “In Loving Memory Of” space to honor the mothers who are no longer with us but whose love and legacy still shape our lives. \nBring Mom. Bring Grandma. Bring the mother figure who has poured into your life. You won’t want to miss it.
URL:https://calvaryfl.com/events1/my-sweet-momma-mothers-day-at-calvary/
LOCATION:Calvary Christian Center\, 1687 W Granada Blvd\, Ormond Beach\, FL\, 32174\, United States
CATEGORIES:Ormond Beach
ATTACH;FMTTYPE=image/jpeg:https://calvaryfl.com/wp-content/uploads/2026/04/MothersDay_Graphc_16x9.jpg
ORGANIZER;CN="Calvaryfl":MAILTO:info@calvaryfl.com
END:VEVENT
BEGIN:VEVENT
DTSTART;TZID=America/Halifax:20260511T183000
DTEND;TZID=America/Halifax:20260511T203000
DTSTAMP:20260424T113249
CREATED:20260408T194403Z
LAST-MODIFIED:20260408T194403Z
UID:10003819-1778524200-1778531400@calvaryfl.com
SUMMARY:Legacy Adults The Circle Grandparenting
DESCRIPTION:Restoration at the Table: Repairing the Pipeline \nThere is something powerful about a story\, especially one of restoration and God’s faithfulness. \nHave you ever felt distance in your family and not just in miles\, but in connection? Conversations that feel harder than they should. Relationships that are not what they once were. A quiet wondering of how to reach the next generation in a way that truly matters. \nGod has not stopped working. The source of His faithfulness is still flowing. But sometimes something in the flow shifts. Things go unspoken. Hurt lingers. Distance grows. And if we are honest\, we may not always understand what changed or how to move forward. \nWhat if the relationships that feel strained could be restored\, and the story of His faithfulness begin to flow again through your family? What if we could slow down\, see clearly\, and take simple\, intentional steps toward healing and restoration? \n“But while he was still a long way off\, his father saw him and felt compassion\, and ran and embraced him and kissed him.” (Luke 15:20) \nEven when there has been distance\, the heart has not stopped looking. What feels far does not have to stay that way. Take a step toward the table of restoration; it may be closer than you think. \nJoin us May 11 at 6:30 PM in Ballard Chapel for Restoration at the Table: Repairing the Pipeline. What was broken can be restored\, and the flow of faith to the next generation can move again. \nClick here to REGISTER
URL:https://calvaryfl.com/events1/legacy-adults-the-circle-grandparenting/
LOCATION:Calvary Christian Center l Chapel\, 1687 W Granada\, Florida\, Ormond Beach\, FL\, 32174\, United States
CATEGORIES:Legacy Adults
ATTACH;FMTTYPE=image/jpeg:https://calvaryfl.com/wp-content/uploads/2026/04/LegacyAdults_GrandparentingInfluenceCircle_May.indd2_.jpg
END:VEVENT
BEGIN:VEVENT
DTSTART;TZID=America/Halifax:20260513T100000
DTEND;TZID=America/Halifax:20260513T120000
DTSTAMP:20260424T113249
CREATED:20260408T162607Z
LAST-MODIFIED:20260408T184702Z
UID:10003812-1778666400-1778673600@calvaryfl.com
SUMMARY:Legacy Adults Game Play + Out to Lunch
DESCRIPTION:Join us for our monthly Game Play gathering on Wednesday\, May 13th\, from 10:00 a.m. to 12:00 p.m.\, for a fun table-game morning in the Calvary Ormond Youth Foyer.\n\nWe will go to lunch following the games.\n\nWe are looking forward to a wonderful time of fellowship\, laughter\, and connection around the table. Feel free to bring a friend\, or several friends and come ready for a great morning together.\n\nWe can’t wait to see you Wednesday\, May 13th!\n\nP.S. As always\, don’t forget to bring your favorite table game!
URL:https://calvaryfl.com/events1/legacy-adults-game-play-out-to-lunch-3/
LOCATION:Calvary Youth Center\, 1687 w granada blvd\, ormond beach\, 32164\, United States
CATEGORIES:Legacy Adults
ATTACH;FMTTYPE=image/jpeg:https://calvaryfl.com/wp-content/uploads/2026/04/LegacyAdults_GameDayLunchOut_April2.jpg
END:VEVENT
BEGIN:VEVENT
DTSTART;TZID=America/Halifax:20260524T100000
DTEND;TZID=America/Halifax:20260524T120000
DTSTAMP:20260424T113249
CREATED:20260422T210824Z
LAST-MODIFIED:20260422T210824Z
UID:10004374-1779616800-1779624000@calvaryfl.com
SUMMARY:Pentecost Sunday
DESCRIPTION:Something shifted in that upper room. A rushing wind\, tongues of fire\, and a gathered people were forever changed when the Holy Spirit fell. The Church was born\, and the same Spirit that filled the disciples is still moving\, still empowering\, and still pouring out today. \nThis Pentecost Sunday\, Calvary is celebrating the gift of the Holy Spirit and the power He brings to every believer. We’re gathering to remember what God did\, to welcome what He’s doing now\, and to contend for a fresh outpouring in our lives\, our homes\, and our church. \nCome expectant. Come hungry. Come ready to be filled afresh with the Spirit of the living God. Whether you’ve walked with the Holy Spirit for years or you’re just beginning to understand who He is\, there is more for you. More power\, more boldness\, more intimacy with the Father. \nInvite someone who needs a touch from heaven. The same Spirit who showed up in Acts 2 is showing up at Calvary on May 24. Don’t miss it.
URL:https://calvaryfl.com/events1/pentecost-sunday/
LOCATION:Calvary Christian Center\, 1687 W Granada Blvd\, Ormond Beach\, FL\, 32174\, United States
CATEGORIES:Ormond Beach
ATTACH;FMTTYPE=image/jpeg:https://calvaryfl.com/wp-content/uploads/2026/04/PentecostSunday_16x9.jpg
ORGANIZER;CN="Calvaryfl":MAILTO:info@calvaryfl.com
END:VEVENT
BEGIN:VEVENT
DTSTART;TZID=America/Halifax:20260613T080000
DTEND;TZID=America/Halifax:20260613T110000
DTSTAMP:20260424T113249
CREATED:20260406T165609Z
LAST-MODIFIED:20260406T165609Z
UID:10003811-1781337600-1781348400@calvaryfl.com
SUMMARY:Empower Men
DESCRIPTION:Come out and enjoy a morning of food\, fellowship\, and empowerment to be the leader God has called you to be. \n\nClick here to register: REGISTER
URL:https://calvaryfl.com/events1/empower-men-june-2026/
LOCATION:Calvary Christian Center\, 1687 W Granada Blvd\, Ormond Beach\, FL\, 32174\, United States
CATEGORIES:All Campus,Brotherhood
ATTACH;FMTTYPE=image/jpeg:https://calvaryfl.com/wp-content/uploads/2026/04/EmpowerMen_16x9.jpg
END:VEVENT
BEGIN:VEVENT
DTSTART;TZID=America/Halifax:20260626T183000
DTEND;TZID=America/Halifax:20260627T130000
DTSTAMP:20260424T113249
CREATED:20260213T210446Z
LAST-MODIFIED:20260418T031238Z
UID:10003478-1782498600-1782565200@calvaryfl.com
SUMMARY:Glow Encounter 2026
DESCRIPTION:Glow Women\, join us on June 26th & 27th for “A Defining Moment”. We know it’s going to be a powerful and Holy time in God’s presence marked by renewed clarity\, vision\, and direction. Don’t miss what God is planning to do in your life during that weekend! \nYou can register for $20 at https://calvaryfl.com/glow/
URL:https://calvaryfl.com/events1/glow-encounter/
LOCATION:Calvary Christian Center\, 1687 W Granada Blvd\, Ormond Beach\, FL\, 32174\, United States
CATEGORIES:Glow Woman
ATTACH;FMTTYPE=image/jpeg:https://calvaryfl.com/wp-content/uploads/2026/02/GLOWCONF_16x9_2026-1.jpg
END:VEVENT
BEGIN:VEVENT
DTSTART;TZID=America/Halifax:20260904T160000
DTEND;TZID=America/Halifax:20260905T160000
DTSTAMP:20260424T113249
CREATED:20260217T191924Z
LAST-MODIFIED:20260302T022911Z
UID:10003479-1788537600-1788624000@calvaryfl.com
SUMMARY:Brotherhood Conference 2026
DESCRIPTION:Join us on September 4th & 5th for Brotherhood Men’s Conference. Men\, invite all your friends and join us for an empowering time together of community and encounter! Raise your level of expectation as you prepare for what God has planned for YOU at Brotherhood 2026. \nClick here to register: REGISTER \n 
URL:https://calvaryfl.com/events1/brotherhood-conference-2026/
LOCATION:Calvary Christian Center\, 1687 W Granada Blvd\, Ormond Beach\, FL\, 32174\, United States
CATEGORIES:All Campus,Brotherhood
ATTACH;FMTTYPE=image/jpeg:https://calvaryfl.com/wp-content/uploads/2026/02/BrotherhoodConf_16x9-scaled.jpg
END:VEVENT
END:VCALENDAR