BEGIN:VCALENDAR
VERSION:2.0
PRODID:-//Calvaryfl - ECPv6.15.20//NONSGML v1.0//EN
CALSCALE:GREGORIAN
METHOD:PUBLISH
X-WR-CALNAME:Calvaryfl
X-ORIGINAL-URL:https://calvaryfl.com
X-WR-CALDESC:Events for Calvaryfl
REFRESH-INTERVAL;VALUE=DURATION:PT1H
X-Robots-Tag:noindex
X-PUBLISHED-TTL:PT1H
BEGIN:VTIMEZONE
TZID:America/Halifax
BEGIN:DAYLIGHT
TZOFFSETFROM:-0400
TZOFFSETTO:-0300
TZNAME:ADT
DTSTART:20250309T060000
END:DAYLIGHT
BEGIN:STANDARD
TZOFFSETFROM:-0300
TZOFFSETTO:-0400
TZNAME:AST
DTSTART:20251102T050000
END:STANDARD
BEGIN:DAYLIGHT
TZOFFSETFROM:-0400
TZOFFSETTO:-0300
TZNAME:ADT
DTSTART:20260308T060000
END:DAYLIGHT
BEGIN:STANDARD
TZOFFSETFROM:-0300
TZOFFSETTO:-0400
TZNAME:AST
DTSTART:20261101T050000
END:STANDARD
BEGIN:DAYLIGHT
TZOFFSETFROM:-0400
TZOFFSETTO:-0300
TZNAME:ADT
DTSTART:20270314T060000
END:DAYLIGHT
BEGIN:STANDARD
TZOFFSETFROM:-0300
TZOFFSETTO:-0400
TZNAME:AST
DTSTART:20271107T050000
END:STANDARD
END:VTIMEZONE
BEGIN:VEVENT
DTSTART;TZID=America/Halifax:20260401T180000
DTEND;TZID=America/Halifax:20260401T203000
DTSTAMP:20260424T214118
CREATED:20260307T030524Z
LAST-MODIFIED:20260307T125850Z
UID:10003500-1775066400-1775075400@calvaryfl.com
SUMMARY:Youth Freedom Encounter
DESCRIPTION:Youth Freedom Encounter is a powerful next step for students who want to experience the life Jesus promised. This event is designed to help young people remove the things that hold them back and walk in the freedom God created them for. \nThroughout the encounter\, students will take time to pray\, worship\, and invite the Holy Spirit to heal hurts\, break strongholds\, and bring freedom from past struggles. It is a safe and faith filled environment where students can encounter God personally and leave refreshed\, restored\, and empowered. \nOur heart is for every student to know they are loved by God\, set free through Jesus\, and called to live a life of purpose. \nCome ready to experience freedom\, deeper relationship with God\, and the power of the Holy Spirit at work in your life.
URL:https://calvaryfl.com/events1/youth-freedom-encounter/
LOCATION:Calvary Youth Center\, 1687 w granada blvd\, ormond beach\, 32164\, United States
CATEGORIES:All Campus,Calvary Youth
ATTACH;FMTTYPE=image/jpeg:https://calvaryfl.com/wp-content/uploads/2026/03/Youth-Freedom-Enocunter.jpeg
END:VEVENT
BEGIN:VEVENT
DTSTART;TZID=America/Halifax:20260404T101500
DTEND;TZID=America/Halifax:20260404T133000
DTSTAMP:20260424T214118
CREATED:20260305T002111Z
LAST-MODIFIED:20260310T154325Z
UID:10003494-1775297700-1775309400@calvaryfl.com
SUMMARY:Special Needs Egg Hunt: Eggceptional 2026
DESCRIPTION:Join us for our Annual Eggceptional Egg Hunt\, a specially designed Easter experience for individuals with special needs and their families! This safe\, inclusive event ensures everyone gets to enjoy the joy of Easter at their own pace. Hunts begin at 10:15 AM on April 4th at 1687 W Granada Blvd. Sign up now at CalvaryFL.link/eggceptional2026 to choose your time slot!
URL:https://calvaryfl.com/events1/special-needs-egg-hunt-eggceptional-2026/
LOCATION:Calvary Christian Center | Kids Center\, 1687 W. Granada Blvd.\, Ormond Beach\, FL\, 32174\, United States
CATEGORIES:All Campus,Calvary Kids
ATTACH;FMTTYPE=image/jpeg:https://calvaryfl.com/wp-content/uploads/2026/03/Eggceptional_16x9.jpg
END:VEVENT
END:VCALENDAR